BEGIN:VCALENDAR
VERSION:2.0
PRODID:-//Christian Book And Nutrition - ECPv6.15.13.1//NONSGML v1.0//EN
CALSCALE:GREGORIAN
METHOD:PUBLISH
X-ORIGINAL-URL:https://christianbookandnutrition.com
X-WR-CALDESC:Events for Christian Book And Nutrition
REFRESH-INTERVAL;VALUE=DURATION:PT1H
X-Robots-Tag:noindex
X-PUBLISHED-TTL:PT1H
BEGIN:VTIMEZONE
TZID:UTC
BEGIN:STANDARD
TZOFFSETFROM:+0000
TZOFFSETTO:+0000
TZNAME:UTC
DTSTART:20230101T000000
END:STANDARD
END:VTIMEZONE
BEGIN:VEVENT
DTSTART;VALUE=DATE:20240707
DTEND;VALUE=DATE:20240805
DTSTAMP:20260420T022850
CREATED:20200428T132335Z
LAST-MODIFIED:20240715T010118Z
UID:1196-1720310400-1722815999@christianbookandnutrition.com
SUMMARY:Youth For Jesus
DESCRIPTION:Our son Story is participating in Youth For Jesus through ASI (Adventist Laymen’s Services and Industries) for the third year. They will be passing out religious literature\, participating in community service\, health expos\, giving Bible studies\, and also preaching about Bible prophecy. The program ends with a presentation about the work they completed during the annual ASI convention in Orlando\, Florida.
URL:https://christianbookandnutrition.com/event/youthforjesus/
LOCATION:FL
CATEGORIES:Youth
ATTACH;FMTTYPE=image/png:https://christianbookandnutrition.com/wp-content/uploads/2020/04/Screen-Shot-2024-07-14-at-8.47.00-PM-e1721005193179.png
END:VEVENT
END:VCALENDAR